BEGIN:VCALENDAR
VERSION:2.0
PRODID:-//Expaumi - ECPv6.15.17//NONSGML v1.0//EN
CALSCALE:GREGORIAN
METHOD:PUBLISH
X-ORIGINAL-URL:https://expaumi.org
X-WR-CALDESC:Eventos para Expaumi
REFRESH-INTERVAL;VALUE=DURATION:PT1H
X-Robots-Tag:noindex
X-PUBLISHED-TTL:PT1H
BEGIN:VTIMEZONE
TZID:Europe/Madrid
BEGIN:DAYLIGHT
TZOFFSETFROM:+0100
TZOFFSETTO:+0200
TZNAME:CEST
DTSTART:20190331T010000
END:DAYLIGHT
BEGIN:STANDARD
TZOFFSETFROM:+0200
TZOFFSETTO:+0100
TZNAME:CET
DTSTART:20191027T010000
END:STANDARD
BEGIN:DAYLIGHT
TZOFFSETFROM:+0100
TZOFFSETTO:+0200
TZNAME:CEST
DTSTART:20200329T010000
END:DAYLIGHT
BEGIN:STANDARD
TZOFFSETFROM:+0200
TZOFFSETTO:+0100
TZNAME:CET
DTSTART:20201025T010000
END:STANDARD
BEGIN:DAYLIGHT
TZOFFSETFROM:+0100
TZOFFSETTO:+0200
TZNAME:CEST
DTSTART:20210328T010000
END:DAYLIGHT
BEGIN:STANDARD
TZOFFSETFROM:+0200
TZOFFSETTO:+0100
TZNAME:CET
DTSTART:20211031T010000
END:STANDARD
END:VTIMEZONE
BEGIN:VEVENT
DTSTART;TZID=Europe/Madrid:20200914T160000
DTEND;TZID=Europe/Madrid:20200914T200000
DTSTAMP:20260423T050233
CREATED:20200731T085210Z
LAST-MODIFIED:20200812T090647Z
UID:3104-1600099200-1600113600@expaumi.org
SUMMARY:Distrito Ciudad Jardín
DESCRIPTION:Centro de Servicios Sociales y Comunitarios\nC/ Las Moreras nº 6; Tlfno.: 951 92 60 73;
URL:https://expaumi.org/evento/distrito-ciudad-jardin/
CATEGORIES:Cursos en los distritos
ATTACH;FMTTYPE=application/pdf:https://expaumi.org/wp-content/uploads/2020/07/Cartel-de-difusión-Cursos-Talleres-2020-Distrito-Ciudad-Jardin-14-septiembre-covid.pdf
END:VEVENT
BEGIN:VEVENT
DTSTART;TZID=Europe/Madrid:20200915T160000
DTEND;TZID=Europe/Madrid:20200915T200000
DTSTAMP:20260423T050233
CREATED:20200731T085324Z
LAST-MODIFIED:20200812T085944Z
UID:3106-1600185600-1600200000@expaumi.org
SUMMARY:Distrito Bailén-Miraflores
DESCRIPTION:Centro de Servicios Sociales Bailén-Miraflores\,\nC/ Tejares\, 50; Tlfno.: 951 92 60 74
URL:https://expaumi.org/evento/distrito-bailen-miraflores/
CATEGORIES:Cursos en los distritos
ATTACH;FMTTYPE=image/jpeg:https://expaumi.org/wp-content/uploads/2020/07/Cartel-de-difusión-Cursos-Talleres-2020-Distrito-Bailén-Miraflores-15-septiembre-covid_page-0001.jpg
END:VEVENT
BEGIN:VEVENT
DTSTART;TZID=Europe/Madrid:20200916T040000
DTEND;TZID=Europe/Madrid:20200916T200000
DTSTAMP:20260423T050233
CREATED:20200731T085928Z
LAST-MODIFIED:20200909T133112Z
UID:3108-1600228800-1600286400@expaumi.org
SUMMARY:Distrito Palma-Palmilla
DESCRIPTION:Centro de Servicios Sociales: C/ Alonso Cruzado\, s/n; Tlfno.: 951 92 60 75;
URL:https://expaumi.org/evento/distrito-palma-palmilla/
CATEGORIES:Cursos en los distritos
ATTACH;FMTTYPE=image/jpeg:https://expaumi.org/wp-content/uploads/2020/07/Cartel-de-difusión-Cursos-Talleres-2020-Distrito-La-Palma-Palmilla-16-septiembre-covid_page-0001.jpg
END:VEVENT
BEGIN:VEVENT
DTSTART;TZID=Europe/Madrid:20200917T160000
DTEND;TZID=Europe/Madrid:20200917T200000
DTSTAMP:20260423T050233
CREATED:20200731T090307Z
LAST-MODIFIED:20200812T090721Z
UID:3110-1600358400-1600372800@expaumi.org
SUMMARY:Distrito Cruz de Humilladero
DESCRIPTION:Centro de Servicios Sociales: C/ Fernández Fermina\, 7; Tlfno.: 951 92 60 76\n13 y 14 de abril de 2020 (Lunes y Martes)
URL:https://expaumi.org/evento/distrito-cruz-de-humilladero/
CATEGORIES:Cursos en los distritos
ATTACH;FMTTYPE=application/pdf:https://expaumi.org/wp-content/uploads/2020/07/Cartel-de-difusión-Cursos-Talleres-2020-Distrito-Cruz-Humilladero-17-septiembre-covid.pdf
END:VEVENT
BEGIN:VEVENT
DTSTART;TZID=Europe/Madrid:20200921T160000
DTEND;TZID=Europe/Madrid:20200921T200000
DTSTAMP:20260423T050233
CREATED:20200731T113545Z
LAST-MODIFIED:20200812T090820Z
UID:3112-1600704000-1600718400@expaumi.org
SUMMARY:Distrito Carretera de Cádiz
DESCRIPTION:Centro de Servicios Sociales: C/ Isaac Peral\, 23; Tlfno.: 951 92 60 77
URL:https://expaumi.org/evento/distrito-carretera-de-cadiz/
CATEGORIES:Cursos en los distritos
ATTACH;FMTTYPE=application/pdf:https://expaumi.org/wp-content/uploads/2020/07/Cartel-de-difusión-Cursos-Talleres-2020-Distrito-Carretra-Cadiz-21-septiembre-covid.pdf
END:VEVENT
BEGIN:VEVENT
DTSTART;TZID=Europe/Madrid:20200922T160000
DTEND;TZID=Europe/Madrid:20200922T200000
DTSTAMP:20260423T050233
CREATED:20200731T113959Z
LAST-MODIFIED:20200812T090859Z
UID:3114-1600790400-1600804800@expaumi.org
SUMMARY:Distrito Churriana
DESCRIPTION:Centro de Servicios Sociales: C/ Maestro Usandizaga\, 15\, Urb. Heliomar;\nTlfno.: 951 92 60 78
URL:https://expaumi.org/evento/distrito-churriana/
CATEGORIES:Cursos en los distritos
ATTACH;FMTTYPE=application/pdf:https://expaumi.org/wp-content/uploads/2020/07/Cartel-de-difusión-Cursos-Talleres-2020-Distrito-Churriana-22-septiembre-covid.pdf
END:VEVENT
BEGIN:VEVENT
DTSTART;TZID=Europe/Madrid:20200928T160000
DTEND;TZID=Europe/Madrid:20200928T200000
DTSTAMP:20260423T050233
CREATED:20200731T114928Z
LAST-MODIFIED:20200812T090920Z
UID:3116-1601308800-1601323200@expaumi.org
SUMMARY:Distrito Campanillas
DESCRIPTION:Junta de Distrito de Campanillas: C/ Ramírez Arcas; Tlfno.: 951 92 60 49 
URL:https://expaumi.org/evento/distrito-campanillas/
CATEGORIES:Cursos en los distritos
ATTACH;FMTTYPE=application/pdf:https://expaumi.org/wp-content/uploads/2020/07/Cartel-de-difusión-Cursos-Talleres-2020-Distrito-Campanilla-28-septiembre-covid.pdf
END:VEVENT
BEGIN:VEVENT
DTSTART;TZID=Europe/Madrid:20200929T160000
DTEND;TZID=Europe/Madrid:20200929T200000
DTSTAMP:20260423T050233
CREATED:20200731T115005Z
LAST-MODIFIED:20200812T091149Z
UID:3118-1601395200-1601409600@expaumi.org
SUMMARY:Distrito Puerto de la Torre
DESCRIPTION:Centro de Servicios Sociales: C/ Lara Castañeda\, 61; Tlfno.: 951 92 60 70
URL:https://expaumi.org/evento/distrito-puerto-de-la-torre/
CATEGORIES:Cursos en los distritos
ATTACH;FMTTYPE=image/jpeg:https://expaumi.org/wp-content/uploads/2020/07/Cartel-de-difusión-Cursos-Talleres-2020-Puerto-de-la-Torre-29-septiembre-covid_page-0001.jpg
END:VEVENT
BEGIN:VEVENT
DTSTART;TZID=Europe/Madrid:20200930T160000
DTEND;TZID=Europe/Madrid:20200930T200000
DTSTAMP:20260423T050233
CREATED:20200731T115042Z
LAST-MODIFIED:20200812T091104Z
UID:3120-1601481600-1601496000@expaumi.org
SUMMARY:Distrito Teatinos-Universidad
DESCRIPTION:C/ Diego Lopez de Zuñiga\, 12;\nTlfno.: 951 92 61 71 – 951 92 61 51
URL:https://expaumi.org/evento/distrito-teatinos-universidad/
CATEGORIES:Cursos en los distritos
ATTACH;FMTTYPE=image/jpeg:https://expaumi.org/wp-content/uploads/2020/07/Cartel-de-difusión-Cursos-Talleres-2020-Teatinos-30-septiembre-covid_page-0001.jpg
END:VEVENT
END:VCALENDAR